BEGIN:VCALENDAR
VERSION:2.0
PRODID:-//ical.marudot.com//iCal Event Maker
CALSCALE:GREGORIAN
BEGIN:VTIMEZONE
TZID:Europe/Zurich
LAST-MODIFIED:20201011T015911Z
TZURL:http://tzurl.org/zoneinfo-outlook/Europe/Zurich
X-LIC-LOCATION:Europe/Zurich
BEGIN:DAYLIGHT
TZNAME:CEST
TZOFFSETFROM:+0100
TZOFFSETTO:+0200
DTSTART:19700329T020000
RRULE:FREQ=YEARLY;BYMONTH=3;BYDAY=-1SU
END:DAYLIGHT
BEGIN:STANDARD
TZNAME:CET
TZOFFSETFROM:+0200
TZOFFSETTO:+0100
DTSTART:19701025T030000
RRULE:FREQ=YEARLY;BYMONTH=10;BYDAY=-1SU
END:STANDARD
END:VTIMEZONE
BEGIN:VEVENT
DTSTAMP:20230307T212951Z
UID:1678224573010-72343@ical.marudot.com
DTSTART;TZID=Europe/Zurich:20230610T100000
DTEND;TZID=Europe/Zurich:20230610T200000
SUMMARY:Matrimonio Gloria e Fabrizio
URL:https://gloria-e-fabrizio.albonico.ch/
DESCRIPTION:h10:00 Cerimonia in chiesa\nh11:00 Rinfresco\nh12:30 Pranzo c/o Hotel Parco San Marco\, I-Cima di Porlezza (CO)
LOCATION:Chiesa Santa Maria di Pazzalino\, CH-6963 Lugano-Pregassona
END:VEVENT
END:VCALENDAR